BEGIN:VCALENDAR
VERSION:2.0
PRODID:-//My Calendar//http://www.joedolson.com//v3.1.17//EN
METHOD:PUBLISH
CALSCALE:GREGORIAN
X-WR-CALNAME:Morgan Owners Queensland
X-PUBLISHED-TTL:PT24H
REFRESH-INTERVAL;VALUE=DURATION:PT24H
X-WR-CALDESC:Events from Morgan Owners Queensland
BEGIN:VEVENT
UID:9-9
LOCATION:
SUMMARY:Christmas Lunch
DTSTAMP:20191124T000000
ORGANIZER;CN=Nicola Fleming:MAILTO:nicola@webcoast.com.au
DTSTART;TZID=Etc/GMT-10:20191124T000000
DTEND;TZID=Etc/GMT-10:20191125T000000
URL;VALUE=URI:https://morganownersqueensland.org.au/calendar-of-events/
DESCRIPTION: 
CATEGORIES:MOQ Event
X-FUNAMBOL-ALLDAY: 1
X-MICROSOFT-CDO-ALLDAYEVENT: TRUE

END:VEVENT
BEGIN:VEVENT
UID:8-8
LOCATION:
SUMMARY:JH Classic Open Day
DTSTAMP:20191020T000000
ORGANIZER;CN=Nicola Fleming:MAILTO:nicola@webcoast.com.au
DTSTART;TZID=Etc/GMT-10:20191020T000000
DTEND;TZID=Etc/GMT-10:20191021T000000
URL;VALUE=URI:https://morganownersqueensland.org.au/calendar-of-events/
DESCRIPTION:This is not a club event. 
CATEGORIES:Other Event
X-FUNAMBOL-ALLDAY: 1
X-MICROSOFT-CDO-ALLDAYEVENT: TRUE

END:VEVENT
BEGIN:VEVENT
UID:7-7
LOCATION:
SUMMARY:Mooloolaba Boat Cruise
DTSTAMP:20191020T170000
ORGANIZER;CN=Nicola Fleming:MAILTO:nicola@webcoast.com.au
DTSTART;TZID=Etc/GMT-10:20191020T170000
DTEND;TZID=Etc/GMT-10:20191020T210000
URL;VALUE=URI:https://morganownersqueensland.org.au/calendar-of-events/
DESCRIPTION:Ian Sawley. Flyer will be sent with full details. 
CATEGORIES:Other Event
END:VEVENT
BEGIN:VEVENT
UID:6-6
LOCATION:
SUMMARY:All British Day / AGM
DTSTAMP:20190922T000000
ORGANIZER;CN=Nicola Fleming:MAILTO:nicola@webcoast.com.au
DTSTART;TZID=Etc/GMT-10:20190922T000000
DTEND;TZID=Etc/GMT-10:20190923T000000
URL;VALUE=URI:https://morganownersqueensland.org.au/calendar-of-events/
DESCRIPTION: 
CATEGORIES:MOQ Event
X-FUNAMBOL-ALLDAY: 1
X-MICROSOFT-CDO-ALLDAYEVENT: TRUE

END:VEVENT
BEGIN:VEVENT
UID:5-5
LOCATION:
SUMMARY:Peak Crossing
DTSTAMP:20190825T000000
ORGANIZER;CN=Nicola Fleming:MAILTO:nicola@webcoast.com.au
DTSTART;TZID=Etc/GMT-10:20190825T000000
DTEND;TZID=Etc/GMT-10:20190826T000000
URL;VALUE=URI:https://morganownersqueensland.org.au/calendar-of-events/
DESCRIPTION: 
CATEGORIES:MOQ Event
X-FUNAMBOL-ALLDAY: 1
X-MICROSOFT-CDO-ALLDAYEVENT: TRUE

END:VEVENT
BEGIN:VEVENT
UID:4-4
LOCATION:
SUMMARY:Weekend away at Stanthorpe
DTSTAMP:20190820T000000
ORGANIZER;CN=Nicola Fleming:MAILTO:nicola@webcoast.com.au
DTSTART;TZID=Etc/GMT-10:20190820T000000
DTEND;TZID=Etc/GMT-10:20190823T000000
URL;VALUE=URI:https://morganownersqueensland.org.au/calendar-of-events/
DESCRIPTION:Staying at Diamondvale Cottages. Looking for expressions of interest.This is a limited number event as Diamondvale only caters for a maximum of 10 couples.Please contact Keith &amp; Judy Browning E: jbrowning58@gmail.comThis will be a fabulous midweek run, a chance to embrace the cold weather, enjoy sitting around the fire, sampling the local produce and wine. For those who were able to do the Smoky Cape weekend with Keith &amp; Judy you will know what great trips they put together. 
CATEGORIES:MOQ Event
X-FUNAMBOL-ALLDAY: 1
X-MICROSOFT-CDO-ALLDAYEVENT: TRUE

END:VEVENT
BEGIN:VEVENT
UID:3-3
LOCATION:
SUMMARY:OPERA AT JIMBOUR
DTSTAMP:20190726T000000
ORGANIZER;CN=Nicola Fleming:MAILTO:nicola@webcoast.com.au
DTSTART;TZID=Etc/GMT-10:20190726T000000
DTEND;TZID=Etc/GMT-10:20190729T000000
URL;VALUE=URI:https://morganownersqueensland.org.au/calendar-of-events/
DESCRIPTION:Organised by Clive Boyle. Flyer will be sent with full details. 
CATEGORIES:Other Event
X-FUNAMBOL-ALLDAY: 1
X-MICROSOFT-CDO-ALLDAYEVENT: TRUE

END:VEVENT
BEGIN:VEVENT
UID:2-2
LOCATION:
SUMMARY:Jumpers &amp; Jazz Warwick
DTSTAMP:20190718T000000
ORGANIZER;CN=Nicola Fleming:MAILTO:nicola@webcoast.com.au
DTSTART;TZID=Etc/GMT-10:20190718T000000
DTEND;TZID=Etc/GMT-10:20190729T000000
URL;VALUE=URI:https://www.jumpersandjazz.com.au/
DESCRIPTION: https://www.jumpersandjazz.com.au/
CATEGORIES:Other Event
X-FUNAMBOL-ALLDAY: 1
X-MICROSOFT-CDO-ALLDAYEVENT: TRUE

END:VEVENT
BEGIN:VEVENT
UID:1-1
LOCATION:
SUMMARY:Amamoor / Mary Valley Rattler
DTSTAMP:20190621T000000
ORGANIZER;CN=Nicola Fleming:MAILTO:nicola@webcoast.com.au
DTSTART;TZID=Etc/GMT-10:20190621T000000
DTEND;TZID=Etc/GMT-10:20190624T000000
URL;VALUE=URI:https://morganownersqueensland.org.au/calendar-of-events/
DESCRIPTION:Friday 21st JuneMeet at Aussie World car park 9.30 am for 10.00 am depart.Woodworks Museum Gympie 11.00 am BYO lunch. Lunch at 1.00pm leave museum 3.00 pm.Book into motel in Gympie happy hour 4.00-5.00 pm dinner 6.00pm at motel or local hotel.Saturday 22nd JuneDepart Gympie 9.00 am (breakfast your call)Arrive Amamoor Lodge 9.30 amAmamoor station MV Rattler departs 11.00 am arrives Gympie 12.00 noon.Lunch Platform 1 café on Gympie station (licensed)Depart Gympie on MV Rattler 1.30 pm arrive Amamoor station 2.30pmBack to Amamoor Lodge leisure timeHappy hour 5.00 – 6.00 pm dinner inside lodge, open fire 7.00 pm.Sunday 23rd JuneBreakfast at the lodge, continental included in package, full at an extra cost.Leave for home at your leisure.Please contact Clive Boyle E: cliveboyle@outlook.com 
CATEGORIES:MOQ Event
X-FUNAMBOL-ALLDAY: 1
X-MICROSOFT-CDO-ALLDAYEVENT: TRUE

END:VEVENT
END:VCALENDAR