BEGIN:VCALENDAR
VERSION:2.0
PRODID:spatie/icalendar-generator
DESCRIPTION:Events from Morgan Owners Queensland
X-WR-CALDESC:Events from Morgan Owners Queensland
REFRESH-INTERVAL;VALUE=DURATION:PT1440M
X-PUBLISHED-TTL:PT1440M
BEGIN:VTIMEZONE
TZID:Etc/GMT-10
BEGIN:STANDARD
DTSTART:20240529T000000Z
TZOFFSETFROM:+1000
TZOFFSETTO:+1000
END:STANDARD
END:VTIMEZONE
BEGIN:VTIMEZONE
TZID:UTC
BEGIN:STANDARD
DTSTART:20250728T160553Z
TZOFFSETFROM:+0000
TZOFFSETTO:+0000
END:STANDARD
END:VTIMEZONE
BEGIN:VEVENT
UID:37-35
DTSTAMP:20260424T160553Z
SUMMARY:Mid Week Run to Birches Restaurant\, Mount Mee - provisional
LOCATION:
ORGANIZER;CN=Morgan Owners:MAILTO:president@morganownersqueensland.org.au
DTSTART;TZID=Etc/GMT-10:20250423T100000
DTEND;TZID=Etc/GMT-10:20250423T110000
X-ALT-DESC;FMTTYPE=TEXT/HTML:Organised by Cam and Glyn Macphee. Provisional
  route is to meet at Samford at around 10:00 am then drive through the win
 ding roads of the Samford Valley\, Dayborough\, Ocean View\, and Campbells
  Pocket Road fishing up at Birches Restaurant around 12:30 for a leisurely
  lunch\, with members then making their own way home. Route details&amp;hellip
 \;
CATEGORIES:MOQ Event
URL;VALUE=URI:https://morganownersqueensland.org.au/mc-events/mid-week-run-
 to-birches-restaurant-mount-mee-provisional/
METHOD:PUBLISH
END:VEVENT
BEGIN:VEVENT
UID:36-34
DTSTAMP:20260424T160553Z
SUMMARY:Untitled Event
LOCATION:
ORGANIZER;CN=Morgan Owners:MAILTO:president@morganownersqueensland.org.au
DTSTART;TZID=Etc/GMT-10:20251018T000000
DTEND;TZID=Etc/GMT-10:20251018T010000
X-ALT-DESC;FMTTYPE=TEXT/HTML:
CATEGORIES:MOQ Event
URL;VALUE=URI:https://morganownersqueensland.org.au/mc-events/untitled-even
 t-2/
METHOD:PUBLISH
END:VEVENT
BEGIN:VEVENT
UID:35-33
DTSTAMP:20260424T160553Z
SUMMARY:Spring Classic Speedfest - Morgan Park Raceway\, Warwick
LOCATION:
ORGANIZER;CN=Morgan Owners:MAILTO:president@morganownersqueensland.org.au
DTSTART;TZID=Etc/GMT-10;VALUE=DATE:20251018
DTEND;TZID=Etc/GMT-10;VALUE=DATE:20251020
X-ALT-DESC;FMTTYPE=TEXT/HTML:MOQ outing to Morgan Park\, Warwick\, arranged
  by Greg Lane. Details to be confirmed also visit Historic Racing Car Club
  : www.hrcc.org.au
CATEGORIES:MOQ Event
URL;VALUE=URI:https://morganownersqueensland.org.au/mc-events/spring-classi
 c-speedfest-morgan-park-raceway-warwick/
METHOD:PUBLISH
END:VEVENT
BEGIN:VEVENT
UID:34-32
DTSTAMP:20260424T160553Z
SUMMARY:All British (Car) Day at Tennyson - Provisional Date
LOCATION:
ORGANIZER;CN=Morgan Owners:MAILTO:president@morganownersqueensland.org.au
DTSTART;TZID=Etc/GMT-10;VALUE=DATE:20250914
DTEND;TZID=Etc/GMT-10;VALUE=DATE:20250915
X-ALT-DESC;FMTTYPE=TEXT/HTML:Annual All British Day at Tennyson\, date to b
 e confirmed. Morgan Owners Club Queensland will hold its Annual General Me
 eting at the event in the morning. Details to be confirmed.
CATEGORIES:MOQ Event
URL;VALUE=URI:https://morganownersqueensland.org.au/mc-events/all-british-c
 ar-day-at-tennyson-provisional-date/
METHOD:PUBLISH
END:VEVENT
BEGIN:VEVENT
UID:33-31
DTSTAMP:20260424T160553Z
SUMMARY:Jumpers and Jazz
LOCATION:
ORGANIZER;CN=Morgan Owners:MAILTO:president@morganownersqueensland.org.au
DTSTART;TZID=Etc/GMT-10;VALUE=DATE:20250719
DTEND;TZID=Etc/GMT-10;VALUE=DATE:20250722
X-ALT-DESC;FMTTYPE=TEXT/HTML:Organised by Greg Lane who has reserved 6 room
 s in his name at the Horse &amp;amp\; Jockey Hotel/Motel 07 4661 0600. At this
  stage there are more rooms\, other than the 6\, if we need them. If you a
 re coming on this outing which is Friday\, Saturday &amp;amp\; Sunday then let
  Greg know. Ring the&amp;hellip\;
CATEGORIES:MOQ Event
URL;VALUE=URI:https://morganownersqueensland.org.au/mc-events/jumpers-and-j
 azz/
METHOD:PUBLISH
END:VEVENT
BEGIN:VEVENT
UID:32-30
DTSTAMP:20260424T160553Z
SUMMARY:Wings\, Wine and Wheels - Toowoomba
LOCATION:
ORGANIZER;CN=Morgan Owners:MAILTO:president@morganownersqueensland.org.au
DTSTART;TZID=Etc/GMT-10;VALUE=DATE:20250517
DTEND;TZID=Etc/GMT-10;VALUE=DATE:20250519
X-ALT-DESC;FMTTYPE=TEXT/HTML:‘Wings\, wine and wheels / damper and billy 
 tea’ 17th and 18th May 2025 “Highfields and Airfields” Where everyth
 ing old is new again.  When gentlemen wore flat caps and cravats\, Ladies
  wore Helmets and Hats ITINERARY  SATURDAY 12.00pm         Lunch 
 – The Clock and Bull Brewery – 9917 New England Highway Cabarlah. A Ba
 varian style chalet&amp;hellip\;
CATEGORIES:MOQ Event
URL;VALUE=URI:https://morganownersqueensland.org.au/mc-events/wings-wine-an
 d-wheels-toowoomba/
METHOD:PUBLISH
END:VEVENT
BEGIN:VEVENT
UID:31-29
DTSTAMP:20260424T160553Z
SUMMARY:Leyburn Sprints
LOCATION:
ORGANIZER;CN=Morgan Owners:MAILTO:president@morganownersqueensland.org.au
DTSTART;TZID=Etc/GMT-10;VALUE=DATE:20250823
DTEND;TZID=Etc/GMT-10;VALUE=DATE:20250825
X-ALT-DESC;FMTTYPE=TEXT/HTML:This is not an official MOQ outing\, however i
 f we have enough members who want to attend we could arrange a group to at
 tend. Please contact Clive Boyle or Lance Boucaut if you are interested. F
 or more details of the event please visit: www.leyburnmotorsprints.com.au
CATEGORIES:Other Event
URL;VALUE=URI:https://morganownersqueensland.org.au/mc-events/leyburn-sprin
 ts/
METHOD:PUBLISH
END:VEVENT
BEGIN:VEVENT
UID:30-28
DTSTAMP:20260424T160553Z
SUMMARY:Macs Bridge Classic Car and Aircraft Festival
LOCATION:
ORGANIZER;CN=Morgan Owners:MAILTO:president@morganownersqueensland.org.au
DTSTART;TZID=Etc/GMT-10;VALUE=DATE:20250706
DTEND;TZID=Etc/GMT-10;VALUE=DATE:20250707
X-ALT-DESC;FMTTYPE=TEXT/HTML:Held at the Caboolture Aero Club and organised
  by the Triumph Sports Owners Association/Mazda MX5/ Caboolture Aero Club\
 ,  this is not an official MOQ event\, however if we have enough interest
  from MOQ members we could arrange an 'official' outing. Please contact Cl
 ive Boyle if you are interested. For more details visit: www.tsoaq.org.au
CATEGORIES:Other Event
URL;VALUE=URI:https://morganownersqueensland.org.au/mc-events/macs-bridge-c
 lassic-car-and-aircraft-festival/
METHOD:PUBLISH
END:VEVENT
BEGIN:VEVENT
UID:29-27
DTSTAMP:20260424T160553Z
SUMMARY:Northern NSW Outing
LOCATION:
ORGANIZER;CN=Morgan Owners:MAILTO:president@morganownersqueensland.org.au
DTSTART;TZID=Etc/GMT-10;VALUE=DATE:20250321
DTEND;TZID=Etc/GMT-10;VALUE=DATE:20250326
X-ALT-DESC;FMTTYPE=TEXT/HTML:Organised by Clive and Lee Boyle: We will be b
 ased at Evans Head and will day trip from there including a day in Yamba.
CATEGORIES:MOQ Event
URL;VALUE=URI:https://morganownersqueensland.org.au/mc-events/northern-nsw-
 outing/
METHOD:PUBLISH
END:VEVENT
BEGIN:VEVENT
UID:28-26
DTSTAMP:20260424T160553Z
SUMMARY:Hot Chilli Run
LOCATION:
ORGANIZER;CN=Morgan Owners:MAILTO:president@morganownersqueensland.org.au
DTSTART;TZID=Etc/GMT-10;VALUE=DATE:20250223
DTEND;TZID=Etc/GMT-10;VALUE=DATE:20250224
X-ALT-DESC;FMTTYPE=TEXT/HTML:Organised by Keith and Judy Browning: Traditio
 nally the HCR takes place in and around the Scenic Rim region where the dr
 ive along the country roads is both warm and inviting\, and the scenery ch
 anges at each turn in the road. As the days have been warm to hot of late 
 we propose to make travelling&amp;hellip\;
CATEGORIES:MOQ Event
URL;VALUE=URI:https://morganownersqueensland.org.au/mc-events/hot-chilli-ru
 n/
METHOD:PUBLISH
END:VEVENT
END:VCALENDAR